Package: bsseqData Version: 0.45.0 Command: /home/biocbuild/bbs-3.21-bioc/R/bin/R CMD INSTALL bsseqData StartedAt: 2025-02-04 11:00:58 -0500 (Tue, 04 Feb 2025) EndedAt: 2025-02-04 11:01:46 -0500 (Tue, 04 Feb 2025) EllapsedTime: 47.8 seconds RetCode: 0 Status: OK