Package: bugphyzz Version: 1.1.0 Command: /home/biocbuild/bbs-3.21-bioc/R/bin/R CMD build --keep-empty-dirs --no-resave-data bugphyzz StartedAt: 2025-02-06 11:08:26 -0500 (Thu, 06 Feb 2025) EndedAt: 2025-02-06 11:09:27 -0500 (Thu, 06 Feb 2025) EllapsedTime: 61.0 seconds RetCode: 0 Status: OK PackageFile: bugphyzz_1.1.0.tar.gz PackageFileSize: 887.6 KiB