Package: ccdata Version: 1.33.0 Command: /home/biocbuild/bbs-3.21-bioc/R/bin/R CMD build --keep-empty-dirs --no-resave-data ccdata StartedAt: 2025-02-13 11:08:39 -0500 (Thu, 13 Feb 2025) EndedAt: 2025-02-13 11:09:32 -0500 (Thu, 13 Feb 2025) EllapsedTime: 53.0 seconds RetCode: 0 Status: OK PackageFile: ccdata_1.33.0.tar.gz PackageFileSize: 893.9 MiB