Package: ccdata Version: 1.33.0 Command: /home/biocbuild/bbs-3.21-bioc/R/bin/R CMD INSTALL ccdata StartedAt: 2025-02-06 10:55:38 -0500 (Thu, 06 Feb 2025) EndedAt: 2025-02-06 10:55:44 -0500 (Thu, 06 Feb 2025) EllapsedTime: 6.1 seconds RetCode: 0 Status: OK