Package: chromstaRData Version: 1.33.0 Command: /home/biocbuild/bbs-3.21-bioc/R/bin/R CMD build --keep-empty-dirs --no-resave-data chromstaRData StartedAt: 2025-02-04 11:09:50 -0500 (Tue, 04 Feb 2025) EndedAt: 2025-02-04 11:10:00 -0500 (Tue, 04 Feb 2025) EllapsedTime: 10.0 seconds RetCode: 0 Status: OK PackageFile: chromstaRData_1.33.0.tar.gz PackageFileSize: 140.2 MiB