Package: cnvGSAdata Version: 1.43.0 Command: /home/biocbuild/bbs-3.21-bioc/R/bin/R CMD check --install=check:cnvGSAdata.install-out.txt --library=/home/biocbuild/bbs-3.21-bioc/R/site-library --timings cnvGSAdata_1.43.0.tar.gz StartedAt: 2025-02-06 11:53:12 -0500 (Thu, 06 Feb 2025) EndedAt: 2025-02-06 11:54:07 -0500 (Thu, 06 Feb 2025) EllapsedTime: 55.2 seconds RetCode: 0 Status: WARNINGS CheckDir: cnvGSAdata.Rcheck Warnings: 1