Package: cnvGSAdata Version: 1.43.0 Command: /home/biocbuild/bbs-3.21-bioc/R/bin/R CMD INSTALL cnvGSAdata StartedAt: 2025-02-06 10:58:01 -0500 (Thu, 06 Feb 2025) EndedAt: 2025-02-06 10:58:06 -0500 (Thu, 06 Feb 2025) EllapsedTime: 5.8 seconds RetCode: 0 Status: OK