Package: curatedAdipoArray Version: 1.19.0 Command: /home/biocbuild/bbs-3.21-bioc/R/bin/R CMD check --install=check:curatedAdipoArray.install-out.txt --library=/home/biocbuild/bbs-3.21-bioc/R/site-library --timings curatedAdipoArray_1.19.0.tar.gz StartedAt: 2025-02-04 11:55:08 -0500 (Tue, 04 Feb 2025) EndedAt: 2025-02-04 11:55:35 -0500 (Tue, 04 Feb 2025) EllapsedTime: 27.3 seconds RetCode: 0 Status: OK CheckDir: curatedAdipoArray.Rcheck Warnings: 0