Package: curatedAdipoArray Version: 1.19.0 Command: /home/biocbuild/bbs-3.21-bioc/R/bin/R CMD INSTALL curatedAdipoArray StartedAt: 2025-02-06 10:55:11 -0500 (Thu, 06 Feb 2025) EndedAt: 2025-02-06 10:55:13 -0500 (Thu, 06 Feb 2025) EllapsedTime: 1.9 seconds RetCode: 0 Status: OK