Package: curatedBladderData Version: 1.43.0 Command: /home/biocbuild/bbs-3.21-bioc/R/bin/R CMD check --install=check:curatedBladderData.install-out.txt --library=/home/biocbuild/bbs-3.21-bioc/R/site-library --timings curatedBladderData_1.43.0.tar.gz StartedAt: 2025-02-13 11:55:46 -0500 (Thu, 13 Feb 2025) EndedAt: 2025-02-13 11:56:51 -0500 (Thu, 13 Feb 2025) EllapsedTime: 64.3 seconds RetCode: 0 Status: OK CheckDir: curatedBladderData.Rcheck Warnings: 0