Package: curatedPCaData Version: 1.3.0 Command: /home/biocbuild/bbs-3.21-bioc/R/bin/R CMD build --keep-empty-dirs --no-resave-data curatedPCaData StartedAt: 2025-02-06 11:12:24 -0500 (Thu, 06 Feb 2025) EndedAt: 2025-02-06 11:19:15 -0500 (Thu, 06 Feb 2025) EllapsedTime: 410.9 seconds RetCode: 0 Status: OK PackageFile: curatedPCaData_1.3.0.tar.gz PackageFileSize: 2.937 MiB