Package: davidTiling Version: 1.47.0 Command: /home/biocbuild/bbs-3.21-bioc/R/bin/R CMD INSTALL davidTiling StartedAt: 2025-02-06 10:57:30 -0500 (Thu, 06 Feb 2025) EndedAt: 2025-02-06 10:58:21 -0500 (Thu, 06 Feb 2025) EllapsedTime: 51.0 seconds RetCode: 0 Status: OK