Package: depmap Version: 1.21.0 Command: /home/biocbuild/bbs-3.21-bioc/R/bin/R CMD check --install=check:depmap.install-out.txt --library=/home/biocbuild/bbs-3.21-bioc/R/site-library --timings depmap_1.21.0.tar.gz StartedAt: 2025-02-06 11:56:50 -0500 (Thu, 06 Feb 2025) EndedAt: 2025-02-06 12:07:16 -0500 (Thu, 06 Feb 2025) EllapsedTime: 626.4 seconds RetCode: 0 Status: OK CheckDir: depmap.Rcheck Warnings: 0