Package: derfinderData Version: 2.25.0 Command: /home/biocbuild/bbs-3.21-bioc/R/bin/R CMD check --install=check:derfinderData.install-out.txt --library=/home/biocbuild/bbs-3.21-bioc/R/site-library --timings derfinderData_2.25.0.tar.gz StartedAt: 2025-02-13 11:58:00 -0500 (Thu, 13 Feb 2025) EndedAt: 2025-02-13 11:58:17 -0500 (Thu, 13 Feb 2025) EllapsedTime: 17.4 seconds RetCode: 0 Status: OK CheckDir: derfinderData.Rcheck Warnings: 0