Package: eoPredData Version: 1.1.0 Command: /home/biocbuild/bbs-3.21-bioc/R/bin/R CMD INSTALL eoPredData StartedAt: 2025-02-06 10:56:53 -0500 (Thu, 06 Feb 2025) EndedAt: 2025-02-06 10:57:06 -0500 (Thu, 06 Feb 2025) EllapsedTime: 12.8 seconds RetCode: 0 Status: OK