Package: epimutacionsData Version: 1.11.0 Command: /home/biocbuild/bbs-3.21-bioc/R/bin/R CMD build --keep-empty-dirs --no-resave-data epimutacionsData StartedAt: 2025-02-06 11:16:03 -0500 (Thu, 06 Feb 2025) EndedAt: 2025-02-06 11:16:45 -0500 (Thu, 06 Feb 2025) EllapsedTime: 42.1 seconds RetCode: 0 Status: OK PackageFile: epimutacionsData_1.11.0.tar.gz PackageFileSize: 57.04 MiB