Package: estrogen Version: 1.53.0 Maintainer: Wolfgang Huber MaintainerEmail: wolfgang.huber at embl.de git_url: https://git.bioconductor.org/packages/estrogen git_branch: devel git_last_commit: f287b25 git_last_commit_date: 2024-10-29 09:25:10 -0500 (Tue, 29 Oct 2024)