Package: estrogen Version: 1.53.0 Command: /home/biocbuild/bbs-3.21-bioc/R/bin/R CMD build --keep-empty-dirs --no-resave-data estrogen StartedAt: 2025-02-06 11:16:10 -0500 (Thu, 06 Feb 2025) EndedAt: 2025-02-06 11:17:28 -0500 (Thu, 06 Feb 2025) EllapsedTime: 77.8 seconds RetCode: 0 Status: OK PackageFile: estrogen_1.53.0.tar.gz PackageFileSize: 26.29 MiB