Package: estrogen Version: 1.53.0 Command: /home/biocbuild/bbs-3.21-bioc/R/bin/R CMD INSTALL estrogen StartedAt: 2025-02-06 10:55:20 -0500 (Thu, 06 Feb 2025) EndedAt: 2025-02-06 10:55:22 -0500 (Thu, 06 Feb 2025) EllapsedTime: 2.1 seconds RetCode: 0 Status: OK