Package: ewceData Version: 1.15.0 Maintainer: Alan Murphy MaintainerEmail: alanmurph94 at hotmail.com git_url: https://git.bioconductor.org/packages/ewceData git_branch: devel git_last_commit: 02a367f git_last_commit_date: 2024-10-29 09:52:23 -0500 (Tue, 29 Oct 2024)