Package: ewceData Version: 1.15.0 Command: /home/biocbuild/bbs-3.21-bioc/R/bin/R CMD check --install=check:ewceData.install-out.txt --library=/home/biocbuild/bbs-3.21-bioc/R/site-library --timings ewceData_1.15.0.tar.gz StartedAt: 2025-02-04 12:03:05 -0500 (Tue, 04 Feb 2025) EndedAt: 2025-02-04 12:05:40 -0500 (Tue, 04 Feb 2025) EllapsedTime: 155.0 seconds RetCode: 0 Status: OK CheckDir: ewceData.Rcheck Warnings: 0