Package: ewceData Version: 1.15.0 Command: /home/biocbuild/bbs-3.21-bioc/R/bin/R CMD INSTALL ewceData StartedAt: 2025-02-04 10:56:58 -0500 (Tue, 04 Feb 2025) EndedAt: 2025-02-04 10:57:11 -0500 (Tue, 04 Feb 2025) EllapsedTime: 13.0 seconds RetCode: 0 Status: OK