Package: faahKO Version: 1.47.1 Command: /home/biocbuild/bbs-3.21-bioc/R/bin/R CMD build --keep-empty-dirs --no-resave-data faahKO StartedAt: 2025-02-04 11:16:41 -0500 (Tue, 04 Feb 2025) EndedAt: 2025-02-04 11:17:30 -0500 (Tue, 04 Feb 2025) EllapsedTime: 49.5 seconds RetCode: 0 Status: OK PackageFile: faahKO_1.47.1.tar.gz PackageFileSize: 16.03 MiB