Package: faahKO Version: 1.47.1 Command: /home/biocbuild/bbs-3.21-bioc/R/bin/R CMD check --install=check:faahKO.install-out.txt --library=/home/biocbuild/bbs-3.21-bioc/R/site-library --timings faahKO_1.47.1.tar.gz StartedAt: 2025-02-04 12:03:07 -0500 (Tue, 04 Feb 2025) EndedAt: 2025-02-04 12:08:12 -0500 (Tue, 04 Feb 2025) EllapsedTime: 304.8 seconds RetCode: 0 Status: OK CheckDir: faahKO.Rcheck Warnings: 0