Package: fission Version: 1.27.0 Command: /home/biocbuild/bbs-3.21-bioc/R/bin/R CMD INSTALL fission StartedAt: 2025-02-06 10:58:42 -0500 (Thu, 06 Feb 2025) EndedAt: 2025-02-06 10:58:57 -0500 (Thu, 06 Feb 2025) EllapsedTime: 15.1 seconds RetCode: 0 Status: OK