Package: flowPloidyData Version: 1.33.0 Command: /home/biocbuild/bbs-3.21-bioc/R/bin/R CMD INSTALL flowPloidyData StartedAt: 2025-02-13 10:55:13 -0500 (Thu, 13 Feb 2025) EndedAt: 2025-02-13 10:55:16 -0500 (Thu, 13 Feb 2025) EllapsedTime: 2.9 seconds RetCode: 0 Status: OK