Package: fourDNData Version: 1.7.0 Command: /home/biocbuild/bbs-3.21-bioc/R/bin/R CMD build --keep-empty-dirs --no-resave-data fourDNData StartedAt: 2025-02-04 11:18:31 -0500 (Tue, 04 Feb 2025) EndedAt: 2025-02-04 11:19:05 -0500 (Tue, 04 Feb 2025) EllapsedTime: 33.6 seconds RetCode: 0 Status: OK PackageFile: fourDNData_1.7.0.tar.gz PackageFileSize: 493.7 KiB