Package: frmaExampleData Version: 1.43.0 Command: /home/biocbuild/bbs-3.21-bioc/R/bin/R CMD check --install=check:frmaExampleData.install-out.txt --library=/home/biocbuild/bbs-3.21-bioc/R/site-library --timings frmaExampleData_1.43.0.tar.gz StartedAt: 2025-02-04 12:06:44 -0500 (Tue, 04 Feb 2025) EndedAt: 2025-02-04 12:08:34 -0500 (Tue, 04 Feb 2025) EllapsedTime: 110.1 seconds RetCode: 0 Status: WARNINGS CheckDir: frmaExampleData.Rcheck Warnings: 2