Package: furrowSeg Version: 1.35.0 Command: /home/biocbuild/bbs-3.21-bioc/R/bin/R CMD build --keep-empty-dirs --no-resave-data furrowSeg StartedAt: 2025-02-06 11:18:50 -0500 (Thu, 06 Feb 2025) EndedAt: 2025-02-06 11:23:57 -0500 (Thu, 06 Feb 2025) EllapsedTime: 306.3 seconds RetCode: 0 Status: OK PackageFile: furrowSeg_1.35.0.tar.gz PackageFileSize: 349.3 MiB