Package: furrowSeg Version: 1.35.0 Command: /home/biocbuild/bbs-3.21-bioc/R/bin/R CMD check --install=check:furrowSeg.install-out.txt --library=/home/biocbuild/bbs-3.21-bioc/R/site-library --timings furrowSeg_1.35.0.tar.gz StartedAt: 2025-02-13 12:07:37 -0500 (Thu, 13 Feb 2025) EndedAt: 2025-02-13 12:15:04 -0500 (Thu, 13 Feb 2025) EllapsedTime: 447.2 seconds RetCode: 0 Status: WARNINGS CheckDir: furrowSeg.Rcheck Warnings: 1