Package: gDNAinRNAseqData Version: 1.7.0 Command: /home/biocbuild/bbs-3.21-bioc/R/bin/R CMD check --install=check:gDNAinRNAseqData.install-out.txt --library=/home/biocbuild/bbs-3.21-bioc/R/site-library --timings gDNAinRNAseqData_1.7.0.tar.gz StartedAt: 2025-02-06 12:08:00 -0500 (Thu, 06 Feb 2025) EndedAt: 2025-02-06 12:10:47 -0500 (Thu, 06 Feb 2025) EllapsedTime: 166.3 seconds RetCode: 0 Status: OK CheckDir: gDNAinRNAseqData.Rcheck Warnings: 0