Package: geneLenDataBase Version: 1.43.0 Command: /home/biocbuild/bbs-3.21-bioc/R/bin/R CMD build --keep-empty-dirs --no-resave-data geneLenDataBase StartedAt: 2025-02-06 11:19:12 -0500 (Thu, 06 Feb 2025) EndedAt: 2025-02-06 11:20:04 -0500 (Thu, 06 Feb 2025) EllapsedTime: 52.2 seconds RetCode: 0 Status: OK PackageFile: geneLenDataBase_1.43.0.tar.gz PackageFileSize: 95.79 MiB