Package: geneLenDataBase Version: 1.43.0 Command: /home/biocbuild/bbs-3.21-bioc/R/bin/R CMD check --install=check:geneLenDataBase.install-out.txt --library=/home/biocbuild/bbs-3.21-bioc/R/site-library --timings geneLenDataBase_1.43.0.tar.gz StartedAt: 2025-02-06 12:08:03 -0500 (Thu, 06 Feb 2025) EndedAt: 2025-02-06 12:17:17 -0500 (Thu, 06 Feb 2025) EllapsedTime: 554.0 seconds RetCode: 0 Status: OK CheckDir: geneLenDataBase.Rcheck Warnings: 0