Package: golubEsets Version: 1.49.0 Command: /home/biocbuild/bbs-3.21-bioc/R/bin/R CMD INSTALL golubEsets StartedAt: 2025-02-04 10:56:09 -0500 (Tue, 04 Feb 2025) EndedAt: 2025-02-04 10:56:12 -0500 (Tue, 04 Feb 2025) EllapsedTime: 2.9 seconds RetCode: 0 Status: OK