Package: hapmap100khind Version: 1.49.0 Command: /home/biocbuild/bbs-3.21-bioc/R/bin/R CMD check --install=check:hapmap100khind.install-out.txt --library=/home/biocbuild/bbs-3.21-bioc/R/site-library --timings hapmap100khind_1.49.0.tar.gz StartedAt: 2025-02-06 12:09:14 -0500 (Thu, 06 Feb 2025) EndedAt: 2025-02-06 12:09:22 -0500 (Thu, 06 Feb 2025) EllapsedTime: 8.0 seconds RetCode: 1 Status: ERROR CheckDir: hapmap100khind.Rcheck Warnings: NA