Package: hapmap500ksty Version: 1.49.0 Command: /home/biocbuild/bbs-3.21-bioc/R/bin/R CMD build --keep-empty-dirs --no-resave-data hapmap500ksty StartedAt: 2025-02-13 11:20:25 -0500 (Thu, 13 Feb 2025) EndedAt: 2025-02-13 11:23:00 -0500 (Thu, 13 Feb 2025) EllapsedTime: 155.2 seconds RetCode: 0 Status: OK PackageFile: hapmap500ksty_1.49.0.tar.gz PackageFileSize: 77.63 MiB