Package: hapmap500ksty Version: 1.49.0 Command: /home/biocbuild/bbs-3.21-bioc/R/bin/R CMD INSTALL hapmap500ksty StartedAt: 2025-02-06 10:55:31 -0500 (Thu, 06 Feb 2025) EndedAt: 2025-02-06 10:55:33 -0500 (Thu, 06 Feb 2025) EllapsedTime: 1.8 seconds RetCode: 0 Status: OK