Package: hapmapsnp6 Version: 1.49.0 Command: /home/biocbuild/bbs-3.21-bioc/R/bin/R CMD check --install=check:hapmapsnp6.install-out.txt --library=/home/biocbuild/bbs-3.21-bioc/R/site-library --timings hapmapsnp6_1.49.0.tar.gz StartedAt: 2025-02-13 12:10:44 -0500 (Thu, 13 Feb 2025) EndedAt: 2025-02-13 12:11:04 -0500 (Thu, 13 Feb 2025) EllapsedTime: 19.9 seconds RetCode: 1 Status: ERROR CheckDir: hapmapsnp6.Rcheck Warnings: NA