Package: hgu133abarcodevecs Version: 1.45.0 Command: /home/biocbuild/bbs-3.21-bioc/R/bin/R CMD INSTALL hgu133abarcodevecs StartedAt: 2025-02-06 10:55:17 -0500 (Thu, 06 Feb 2025) EndedAt: 2025-02-06 10:55:19 -0500 (Thu, 06 Feb 2025) EllapsedTime: 1.8 seconds RetCode: 0 Status: OK