Package: hgu133plus2barcodevecs Version: 1.45.0 Command: /home/biocbuild/bbs-3.21-bioc/R/bin/R CMD build --keep-empty-dirs --no-resave-data hgu133plus2barcodevecs StartedAt: 2025-02-13 11:23:11 -0500 (Thu, 13 Feb 2025) EndedAt: 2025-02-13 11:23:12 -0500 (Thu, 13 Feb 2025) EllapsedTime: 1.0 seconds RetCode: 0 Status: OK PackageFile: hgu133plus2barcodevecs_1.45.0.tar.gz PackageFileSize: 1.209 MiB