Package: kidpack Version: 1.49.0 Command: /home/biocbuild/bbs-3.21-bioc/R/bin/R CMD check --install=check:kidpack.install-out.txt --library=/home/biocbuild/bbs-3.21-bioc/R/site-library --timings kidpack_1.49.0.tar.gz StartedAt: 2025-02-04 12:17:18 -0500 (Tue, 04 Feb 2025) EndedAt: 2025-02-04 12:17:49 -0500 (Tue, 04 Feb 2025) EllapsedTime: 31.3 seconds RetCode: 0 Status: WARNINGS CheckDir: kidpack.Rcheck Warnings: 1