Package: lungExpression Version: 0.45.0 Command: /home/biocbuild/bbs-3.21-bioc/R/bin/R CMD INSTALL lungExpression StartedAt: 2025-02-06 10:56:03 -0500 (Thu, 06 Feb 2025) EndedAt: 2025-02-06 10:56:05 -0500 (Thu, 06 Feb 2025) EllapsedTime: 1.9 seconds RetCode: 0 Status: OK