Package: mCSEAdata Version: 1.27.1 Command: /home/biocbuild/bbs-3.21-bioc/R/bin/R CMD build --keep-empty-dirs --no-resave-data mCSEAdata StartedAt: 2025-02-04 11:27:44 -0500 (Tue, 04 Feb 2025) EndedAt: 2025-02-04 11:28:58 -0500 (Tue, 04 Feb 2025) EllapsedTime: 74.7 seconds RetCode: 0 Status: OK PackageFile: mCSEAdata_1.27.1.tar.gz PackageFileSize: 15.84 MiB