Package: mCSEAdata Version: 1.27.1 Command: /home/biocbuild/bbs-3.21-bioc/R/bin/R CMD check --install=check:mCSEAdata.install-out.txt --library=/home/biocbuild/bbs-3.21-bioc/R/site-library --timings mCSEAdata_1.27.1.tar.gz StartedAt: 2025-02-04 12:20:06 -0500 (Tue, 04 Feb 2025) EndedAt: 2025-02-04 12:20:38 -0500 (Tue, 04 Feb 2025) EllapsedTime: 32.0 seconds RetCode: 0 Status: OK CheckDir: mCSEAdata.Rcheck Warnings: 0