Package: mCSEAdata Version: 1.27.1 Command: /home/biocbuild/bbs-3.21-bioc/R/bin/R CMD INSTALL mCSEAdata StartedAt: 2025-02-06 10:57:57 -0500 (Thu, 06 Feb 2025) EndedAt: 2025-02-06 10:59:02 -0500 (Thu, 06 Feb 2025) EllapsedTime: 65.0 seconds RetCode: 0 Status: OK