Package: marinerData Version: 1.7.0 Command: /home/biocbuild/bbs-3.21-bioc/R/bin/R CMD INSTALL marinerData StartedAt: 2025-02-06 10:56:46 -0500 (Thu, 06 Feb 2025) EndedAt: 2025-02-06 10:57:00 -0500 (Thu, 06 Feb 2025) EllapsedTime: 13.5 seconds RetCode: 0 Status: OK