Package: mcsurvdata Version: 1.25.0 Command: /home/biocbuild/bbs-3.21-bioc/R/bin/R CMD build --keep-empty-dirs --no-resave-data mcsurvdata StartedAt: 2025-02-06 11:27:47 -0500 (Thu, 06 Feb 2025) EndedAt: 2025-02-06 11:28:17 -0500 (Thu, 06 Feb 2025) EllapsedTime: 29.4 seconds RetCode: 0 Status: OK PackageFile: mcsurvdata_1.25.0.tar.gz PackageFileSize: 229.5 KiB