Package: mcsurvdata Version: 1.25.0 Command: /home/biocbuild/bbs-3.21-bioc/R/bin/R CMD INSTALL mcsurvdata StartedAt: 2025-02-06 10:56:43 -0500 (Thu, 06 Feb 2025) EndedAt: 2025-02-06 10:56:53 -0500 (Thu, 06 Feb 2025) EllapsedTime: 9.2 seconds RetCode: 0 Status: OK