Package: methylclockData Version: 1.15.0 Command: /home/biocbuild/bbs-3.21-bioc/R/bin/R CMD check --install=check:methylclockData.install-out.txt --library=/home/biocbuild/bbs-3.21-bioc/R/site-library --timings methylclockData_1.15.0.tar.gz StartedAt: 2025-02-06 12:21:23 -0500 (Thu, 06 Feb 2025) EndedAt: 2025-02-06 12:26:42 -0500 (Thu, 06 Feb 2025) EllapsedTime: 319.0 seconds RetCode: 0 Status: OK CheckDir: methylclockData.Rcheck Warnings: 0