Package: methylclockData Version: 1.15.0 Command: /home/biocbuild/bbs-3.21-bioc/R/bin/R CMD INSTALL methylclockData StartedAt: 2025-02-13 11:03:16 -0500 (Thu, 13 Feb 2025) EndedAt: 2025-02-13 11:03:54 -0500 (Thu, 13 Feb 2025) EllapsedTime: 38.5 seconds RetCode: 0 Status: OK